BEGIN:VCALENDAR
VERSION:2.0
PRODID:-//SZE - ECPv6.15.15//NONSGML v1.0//EN
CALSCALE:GREGORIAN
METHOD:PUBLISH
X-ORIGINAL-URL:https://www.hlwstpoelten.ac.at
X-WR-CALDESC:Veranstaltungen für SZE
REFRESH-INTERVAL;VALUE=DURATION:PT1H
X-Robots-Tag:noindex
X-PUBLISHED-TTL:PT1H
BEGIN:VTIMEZONE
TZID:Europe/Vienna
BEGIN:DAYLIGHT
TZOFFSETFROM:+0100
TZOFFSETTO:+0200
TZNAME:CEST
DTSTART:20230326T010000
END:DAYLIGHT
BEGIN:STANDARD
TZOFFSETFROM:+0200
TZOFFSETTO:+0100
TZNAME:CET
DTSTART:20231029T010000
END:STANDARD
BEGIN:DAYLIGHT
TZOFFSETFROM:+0100
TZOFFSETTO:+0200
TZNAME:CEST
DTSTART:20240331T010000
END:DAYLIGHT
BEGIN:STANDARD
TZOFFSETFROM:+0200
TZOFFSETTO:+0100
TZNAME:CET
DTSTART:20241027T010000
END:STANDARD
BEGIN:DAYLIGHT
TZOFFSETFROM:+0100
TZOFFSETTO:+0200
TZNAME:CEST
DTSTART:20250330T010000
END:DAYLIGHT
BEGIN:STANDARD
TZOFFSETFROM:+0200
TZOFFSETTO:+0100
TZNAME:CET
DTSTART:20251026T010000
END:STANDARD
END:VTIMEZONE
BEGIN:VEVENT
DTSTART;VALUE=DATE:20240109
DTEND;VALUE=DATE:20240110
DTSTAMP:20260419T183910
CREATED:20220910T091322Z
LAST-MODIFIED:20231113T172638Z
UID:16843-1704758400-1704844799@www.hlwstpoelten.ac.at
SUMMARY:HLW/HLS/ALW 2. weiterer Termin: schriftliche Klausur RW/BW
DESCRIPTION:
URL:https://www.hlwstpoelten.ac.at/event/hlw-alw-2-weiterer-termin-schriftliche-klausur-rw-bw/
END:VEVENT
BEGIN:VEVENT
DTSTART;VALUE=DATE:20240110
DTEND;VALUE=DATE:20240111
DTSTAMP:20260419T183910
CREATED:20220910T091246Z
LAST-MODIFIED:20231113T172733Z
UID:16841-1704844800-1704931199@www.hlwstpoelten.ac.at
SUMMARY:HLW/HLS/ALW 2. weiterer Termin: schriftliche Klausur AM
DESCRIPTION:
URL:https://www.hlwstpoelten.ac.at/event/hlw-alw-2-weiterer-termin-schriftliche-klausur-am/
END:VEVENT
BEGIN:VEVENT
DTSTART;VALUE=DATE:20240111
DTEND;VALUE=DATE:20240112
DTSTAMP:20260419T183910
CREATED:20220910T093302Z
LAST-MODIFIED:20231113T172532Z
UID:16847-1704931200-1705017599@www.hlwstpoelten.ac.at
SUMMARY:HLW/HLS/ALW 2. weiterer Termin: schriftliche Klausur Deutsch
DESCRIPTION:
URL:https://www.hlwstpoelten.ac.at/event/hlw-alw-2-weiterer-termin-schriftliche-klausur-deutsch-2/
END:VEVENT
BEGIN:VEVENT
DTSTART;VALUE=DATE:20240112
DTEND;VALUE=DATE:20240113
DTSTAMP:20260419T183910
CREATED:20220910T091354Z
LAST-MODIFIED:20231113T172906Z
UID:16845-1705017600-1705103999@www.hlwstpoelten.ac.at
SUMMARY:HLW/HLS/ALW 2. weiterer Termin: schriftliche Klausur Englisch
DESCRIPTION:
URL:https://www.hlwstpoelten.ac.at/event/hlw-alw-2-weiterer-termin-schriftliche-klausur-deutsch/
END:VEVENT
BEGIN:VEVENT
DTSTART;VALUE=DATE:20240112
DTEND;VALUE=DATE:20240113
DTSTAMP:20260419T183910
CREATED:20231113T173138Z
LAST-MODIFIED:20231113T173138Z
UID:20844-1705017600-1705103999@www.hlwstpoelten.ac.at
SUMMARY:HLW/HLS/ALW Anmeldung standardisierte Reife- und Diplomprüfung
DESCRIPTION:bis 12 Uhr
URL:https://www.hlwstpoelten.ac.at/event/hlw-hls-alw-anmeldung-standardisierte-reife-und-diplompruefung/
END:VEVENT
BEGIN:VEVENT
DTSTART;VALUE=DATE:20240115
DTEND;VALUE=DATE:20240116
DTSTAMP:20260419T183910
CREATED:20220910T093340Z
LAST-MODIFIED:20231113T173506Z
UID:16849-1705276800-1705363199@www.hlwstpoelten.ac.at
SUMMARY:FW/FSB 2. weiterer Termin: schriftliche Klausur RW/BW
DESCRIPTION:
URL:https://www.hlwstpoelten.ac.at/event/fw-fsb-2-weiterer-termin-schriftliche-klausur-rw-bw/
END:VEVENT
BEGIN:VEVENT
DTSTART;VALUE=DATE:20240116
DTEND;VALUE=DATE:20240117
DTSTAMP:20260419T183910
CREATED:20220910T093412Z
LAST-MODIFIED:20231113T173415Z
UID:16851-1705363200-1705449599@www.hlwstpoelten.ac.at
SUMMARY:FW/FSB 2. weiterer Termin: schriftliche Klausur Deutsch
DESCRIPTION:
URL:https://www.hlwstpoelten.ac.at/event/fw-fsb-2-weiterer-termin-schriftliche-klausur-deutsch/
END:VEVENT
BEGIN:VEVENT
DTSTART;VALUE=DATE:20240119
DTEND;VALUE=DATE:20240120
DTSTAMP:20260419T183910
CREATED:20231113T173615Z
LAST-MODIFIED:20231113T173615Z
UID:20847-1705622400-1705708799@www.hlwstpoelten.ac.at
SUMMARY:FW/FSB Anmeldung Abschlussprüfung
DESCRIPTION:bis 12 Uhr
URL:https://www.hlwstpoelten.ac.at/event/fw-fsb-anmeldung-abschlusspruefung/
END:VEVENT
BEGIN:VEVENT
DTSTART;VALUE=DATE:20240125
DTEND;VALUE=DATE:20240126
DTSTAMP:20260419T183910
CREATED:20181107T095423Z
LAST-MODIFIED:20231113T173843Z
UID:2340-1706140800-1706227199@www.hlwstpoelten.ac.at
SUMMARY:Noten eintragen (1. Sem.)
DESCRIPTION:bis 13 Uhr!
URL:https://www.hlwstpoelten.ac.at/event/noten-eintragen/
END:VEVENT
BEGIN:VEVENT
DTSTART;VALUE=DATE:20240125
DTEND;VALUE=DATE:20240126
DTSTAMP:20260419T183910
CREATED:20181204T091139Z
LAST-MODIFIED:20231113T173743Z
UID:2891-1706140800-1706227199@www.hlwstpoelten.ac.at
SUMMARY:SOB Notenkonferenz
DESCRIPTION:15:30 Uhr
URL:https://www.hlwstpoelten.ac.at/event/sob-notenkonferenz/
END:VEVENT
BEGIN:VEVENT
DTSTART;VALUE=DATE:20240130
DTEND;VALUE=DATE:20240131
DTSTAMP:20260419T183910
CREATED:20220910T094039Z
LAST-MODIFIED:20231113T174039Z
UID:16858-1706572800-1706659199@www.hlwstpoelten.ac.at
SUMMARY:Semesterkonferenz online
DESCRIPTION:13:30 Uhr
URL:https://www.hlwstpoelten.ac.at/event/semesterkonferenz-online/
END:VEVENT
BEGIN:VEVENT
DTSTART;VALUE=DATE:20240131
DTEND;VALUE=DATE:20240201
DTSTAMP:20260419T183910
CREATED:20220910T094135Z
LAST-MODIFIED:20231113T174201Z
UID:16860-1706659200-1706745599@www.hlwstpoelten.ac.at
SUMMARY:HLW/HLS/ALW 2. weiterer Termin: standardisierte Kompensationsprüfungen
DESCRIPTION:
URL:https://www.hlwstpoelten.ac.at/event/hlw-alw-2-weiterer-termin-standardisierte-kompensationspruefungen/
END:VEVENT
END:VCALENDAR