BEGIN:VCALENDAR
VERSION:2.0
PRODID:-//SZE - ECPv6.15.15//NONSGML v1.0//EN
CALSCALE:GREGORIAN
METHOD:PUBLISH
X-ORIGINAL-URL:https://www.hlwstpoelten.ac.at
X-WR-CALDESC:Veranstaltungen für SZE
REFRESH-INTERVAL;VALUE=DURATION:PT1H
X-Robots-Tag:noindex
X-PUBLISHED-TTL:PT1H
BEGIN:VTIMEZONE
TZID:Europe/Vienna
BEGIN:DAYLIGHT
TZOFFSETFROM:+0100
TZOFFSETTO:+0200
TZNAME:CEST
DTSTART:20220327T010000
END:DAYLIGHT
BEGIN:STANDARD
TZOFFSETFROM:+0200
TZOFFSETTO:+0100
TZNAME:CET
DTSTART:20221030T010000
END:STANDARD
BEGIN:DAYLIGHT
TZOFFSETFROM:+0100
TZOFFSETTO:+0200
TZNAME:CEST
DTSTART:20230326T010000
END:DAYLIGHT
BEGIN:STANDARD
TZOFFSETFROM:+0200
TZOFFSETTO:+0100
TZNAME:CET
DTSTART:20231029T010000
END:STANDARD
BEGIN:DAYLIGHT
TZOFFSETFROM:+0100
TZOFFSETTO:+0200
TZNAME:CEST
DTSTART:20240331T010000
END:DAYLIGHT
BEGIN:STANDARD
TZOFFSETFROM:+0200
TZOFFSETTO:+0100
TZNAME:CET
DTSTART:20241027T010000
END:STANDARD
END:VTIMEZONE
BEGIN:VEVENT
DTSTART;VALUE=DATE:20231012
DTEND;VALUE=DATE:20231013
DTSTAMP:20260419T225040
CREATED:20230826T140018Z
LAST-MODIFIED:20230826T140018Z
UID:20086-1697068800-1697155199@www.hlwstpoelten.ac.at
SUMMARY:85-Jahr-Feier
DESCRIPTION:
URL:https://www.hlwstpoelten.ac.at/event/85-jahr-feier/
END:VEVENT
BEGIN:VEVENT
DTSTART;VALUE=DATE:20231012
DTEND;VALUE=DATE:20231013
DTSTAMP:20260419T225040
CREATED:20230826T141543Z
LAST-MODIFIED:20230826T141543Z
UID:20102-1697068800-1697155199@www.hlwstpoelten.ac.at
SUMMARY:mündliche Kompensationen (zentral)
DESCRIPTION:
URL:https://www.hlwstpoelten.ac.at/event/muendliche-kompensationen-zentral/
END:VEVENT
BEGIN:VEVENT
DTSTART;VALUE=DATE:20231014
DTEND;VALUE=DATE:20231015
DTSTAMP:20260419T225040
CREATED:20200618T070818Z
LAST-MODIFIED:20230826T140149Z
UID:8983-1697241600-1697327999@www.hlwstpoelten.ac.at
SUMMARY:Infotage
DESCRIPTION:
URL:https://www.hlwstpoelten.ac.at/event/infotage/
END:VEVENT
BEGIN:VEVENT
DTSTART;VALUE=DATE:20231017
DTEND;VALUE=DATE:20231018
DTSTAMP:20260419T225040
CREATED:20230826T141631Z
LAST-MODIFIED:20230826T141631Z
UID:20105-1697500800-1697587199@www.hlwstpoelten.ac.at
SUMMARY:mündliche Prüfungen + Kompensationen (nicht zentral)
DESCRIPTION:
URL:https://www.hlwstpoelten.ac.at/event/muendliche-pruefungen-kompensationen-nicht-zentral/
END:VEVENT
BEGIN:VEVENT
DTSTART;VALUE=DATE:20231018
DTEND;VALUE=DATE:20231019
DTSTAMP:20260419T225040
CREATED:20230826T141649Z
LAST-MODIFIED:20230826T141649Z
UID:20107-1697587200-1697673599@www.hlwstpoelten.ac.at
SUMMARY:mündliche Prüfungen + Kompensationen (nicht zentral)
DESCRIPTION:
URL:https://www.hlwstpoelten.ac.at/event/muendliche-pruefungen-kompensationen-nicht-zentral-2/
END:VEVENT
END:VCALENDAR