BEGIN:VCALENDAR
VERSION:2.0
PRODID:-//SZE - ECPv6.15.15//NONSGML v1.0//EN
CALSCALE:GREGORIAN
METHOD:PUBLISH
X-WR-CALNAME:SZE
X-ORIGINAL-URL:https://www.hlwstpoelten.ac.at
X-WR-CALDESC:Veranstaltungen für SZE
REFRESH-INTERVAL;VALUE=DURATION:PT1H
X-Robots-Tag:noindex
X-PUBLISHED-TTL:PT1H
BEGIN:VTIMEZONE
TZID:Europe/Vienna
BEGIN:DAYLIGHT
TZOFFSETFROM:+0100
TZOFFSETTO:+0200
TZNAME:CEST
DTSTART:20220327T010000
END:DAYLIGHT
BEGIN:STANDARD
TZOFFSETFROM:+0200
TZOFFSETTO:+0100
TZNAME:CET
DTSTART:20221030T010000
END:STANDARD
BEGIN:DAYLIGHT
TZOFFSETFROM:+0100
TZOFFSETTO:+0200
TZNAME:CEST
DTSTART:20230326T010000
END:DAYLIGHT
BEGIN:STANDARD
TZOFFSETFROM:+0200
TZOFFSETTO:+0100
TZNAME:CET
DTSTART:20231029T010000
END:STANDARD
BEGIN:DAYLIGHT
TZOFFSETFROM:+0100
TZOFFSETTO:+0200
TZNAME:CEST
DTSTART:20240331T010000
END:DAYLIGHT
BEGIN:STANDARD
TZOFFSETFROM:+0200
TZOFFSETTO:+0100
TZNAME:CET
DTSTART:20241027T010000
END:STANDARD
END:VTIMEZONE
BEGIN:VEVENT
DTSTART;VALUE=DATE:20230825
DTEND;VALUE=DATE:20230826
DTSTAMP:20260420T014343
CREATED:20220818T135405Z
LAST-MODIFIED:20230728T073022Z
UID:16747-1692921600-1693007999@www.hlwstpoelten.ac.at
SUMMARY:Abgabe der Aufgabenstellungen für vorgezogene RDP
DESCRIPTION:Digitale Abgabe der Aufgaben zur digitalen Approbation bis spätestens 25. Aug. 2023 (falls Änderungen\, Ergänzungen erforderlich)
URL:https://www.hlwstpoelten.ac.at/event/digitale-abgabe-der-aufgabenstellungen-fuer-vorgezogene-rdp/
END:VEVENT
END:VCALENDAR