BEGIN:VCALENDAR
VERSION:2.0
PRODID:-//SZE - ECPv6.15.15//NONSGML v1.0//EN
CALSCALE:GREGORIAN
METHOD:PUBLISH
X-ORIGINAL-URL:https://www.hlwstpoelten.ac.at
X-WR-CALDESC:Veranstaltungen für SZE
REFRESH-INTERVAL;VALUE=DURATION:PT1H
X-Robots-Tag:noindex
X-PUBLISHED-TTL:PT1H
BEGIN:VTIMEZONE
TZID:Europe/Vienna
BEGIN:DAYLIGHT
TZOFFSETFROM:+0100
TZOFFSETTO:+0200
TZNAME:CEST
DTSTART:20220327T010000
END:DAYLIGHT
BEGIN:STANDARD
TZOFFSETFROM:+0200
TZOFFSETTO:+0100
TZNAME:CET
DTSTART:20221030T010000
END:STANDARD
BEGIN:DAYLIGHT
TZOFFSETFROM:+0100
TZOFFSETTO:+0200
TZNAME:CEST
DTSTART:20230326T010000
END:DAYLIGHT
BEGIN:STANDARD
TZOFFSETFROM:+0200
TZOFFSETTO:+0100
TZNAME:CET
DTSTART:20231029T010000
END:STANDARD
BEGIN:DAYLIGHT
TZOFFSETFROM:+0100
TZOFFSETTO:+0200
TZNAME:CEST
DTSTART:20240331T010000
END:DAYLIGHT
BEGIN:STANDARD
TZOFFSETFROM:+0200
TZOFFSETTO:+0100
TZNAME:CET
DTSTART:20241027T010000
END:STANDARD
END:VTIMEZONE
BEGIN:VEVENT
DTSTART;VALUE=DATE:20230607
DTEND;VALUE=DATE:20230608
DTSTAMP:20260420T041456
CREATED:20230517T100701Z
LAST-MODIFIED:20230517T100701Z
UID:19769-1686096000-1686182399@www.hlwstpoelten.ac.at
SUMMARY:Abschlussfeier 5HLS
DESCRIPTION:
URL:https://www.hlwstpoelten.ac.at/event/abschlussfeier-5hls/
END:VEVENT
BEGIN:VEVENT
DTSTART;VALUE=DATE:20230609
DTEND;VALUE=DATE:20230610
DTSTAMP:20260420T041456
CREATED:20230509T083051Z
LAST-MODIFIED:20230509T083051Z
UID:19695-1686268800-1686355199@www.hlwstpoelten.ac.at
SUMMARY:HLW Mündliche Teilprüfungen + Kompensationsprüfungen nicht standardisiert
DESCRIPTION:
URL:https://www.hlwstpoelten.ac.at/event/hlw-muendliche-teilpruefungen-kompensationspruefungen-nicht-standardisiert/
END:VEVENT
BEGIN:VEVENT
DTSTART;VALUE=DATE:20230614
DTEND;VALUE=DATE:20230615
DTSTAMP:20260420T041456
CREATED:20230517T100739Z
LAST-MODIFIED:20230517T100739Z
UID:19772-1686700800-1686787199@www.hlwstpoelten.ac.at
SUMMARY:Abschlussfeier 5HLW
DESCRIPTION:
URL:https://www.hlwstpoelten.ac.at/event/abschlussfeier-5hlw/
END:VEVENT
BEGIN:VEVENT
DTSTART;VALUE=DATE:20230616
DTEND;VALUE=DATE:20230617
DTSTAMP:20260420T041456
CREATED:20230517T100819Z
LAST-MODIFIED:20230517T100819Z
UID:19774-1686873600-1686959999@www.hlwstpoelten.ac.at
SUMMARY:Abschlussfeier 3ALW
DESCRIPTION:evtl. 15. 6.
URL:https://www.hlwstpoelten.ac.at/event/abschlussfeier-3alw/
END:VEVENT
BEGIN:VEVENT
DTSTART;VALUE=DATE:20230621
DTEND;VALUE=DATE:20230622
DTSTAMP:20260420T041456
CREATED:20230517T100900Z
LAST-MODIFIED:20230517T100900Z
UID:19777-1687305600-1687391999@www.hlwstpoelten.ac.at
SUMMARY:Abschlussfeier 3FSB
DESCRIPTION:
URL:https://www.hlwstpoelten.ac.at/event/abschlussfeier-3fsb/
END:VEVENT
BEGIN:VEVENT
DTSTART;VALUE=DATE:20230623
DTEND;VALUE=DATE:20230624
DTSTAMP:20260420T041456
CREATED:20230517T100946Z
LAST-MODIFIED:20230517T100946Z
UID:19780-1687478400-1687564799@www.hlwstpoelten.ac.at
SUMMARY:Abschlussfeier 3FW
DESCRIPTION:
URL:https://www.hlwstpoelten.ac.at/event/abschlussfeier-3fw/
END:VEVENT
BEGIN:VEVENT
DTSTART;VALUE=DATE:20230627
DTEND;VALUE=DATE:20230629
DTSTAMP:20260420T041456
CREATED:20230509T083828Z
LAST-MODIFIED:20230509T083828Z
UID:19710-1687824000-1687996799@www.hlwstpoelten.ac.at
SUMMARY:Aktivitäten im Klassenverband
DESCRIPTION:
URL:https://www.hlwstpoelten.ac.at/event/aktivitaeten-im-klassenverband/
END:VEVENT
BEGIN:VEVENT
DTSTART;VALUE=DATE:20230628
DTEND;VALUE=DATE:20230629
DTSTAMP:20260420T041456
CREATED:20230509T084158Z
LAST-MODIFIED:20230509T084158Z
UID:19713-1687910400-1687996799@www.hlwstpoelten.ac.at
SUMMARY:Fachsozialbetreuerprüfung
DESCRIPTION:
URL:https://www.hlwstpoelten.ac.at/event/fachsozialbetreuerpruefung/
END:VEVENT
END:VCALENDAR