BEGIN:VCALENDAR
VERSION:2.0
PRODID:-//SZE - ECPv6.15.15//NONSGML v1.0//EN
CALSCALE:GREGORIAN
METHOD:PUBLISH
X-ORIGINAL-URL:https://www.hlwstpoelten.ac.at
X-WR-CALDESC:Veranstaltungen für SZE
REFRESH-INTERVAL;VALUE=DURATION:PT1H
X-Robots-Tag:noindex
X-PUBLISHED-TTL:PT1H
BEGIN:VTIMEZONE
TZID:Europe/Vienna
BEGIN:DAYLIGHT
TZOFFSETFROM:+0100
TZOFFSETTO:+0200
TZNAME:CEST
DTSTART:20220327T010000
END:DAYLIGHT
BEGIN:STANDARD
TZOFFSETFROM:+0200
TZOFFSETTO:+0100
TZNAME:CET
DTSTART:20221030T010000
END:STANDARD
BEGIN:DAYLIGHT
TZOFFSETFROM:+0100
TZOFFSETTO:+0200
TZNAME:CEST
DTSTART:20230326T010000
END:DAYLIGHT
BEGIN:STANDARD
TZOFFSETFROM:+0200
TZOFFSETTO:+0100
TZNAME:CET
DTSTART:20231029T010000
END:STANDARD
BEGIN:DAYLIGHT
TZOFFSETFROM:+0100
TZOFFSETTO:+0200
TZNAME:CEST
DTSTART:20240331T010000
END:DAYLIGHT
BEGIN:STANDARD
TZOFFSETFROM:+0200
TZOFFSETTO:+0100
TZNAME:CET
DTSTART:20241027T010000
END:STANDARD
BEGIN:DAYLIGHT
TZOFFSETFROM:+0100
TZOFFSETTO:+0200
TZNAME:CEST
DTSTART:20250330T010000
END:DAYLIGHT
BEGIN:STANDARD
TZOFFSETFROM:+0200
TZOFFSETTO:+0100
TZNAME:CET
DTSTART:20251026T010000
END:STANDARD
END:VTIMEZONE
BEGIN:VEVENT
DTSTART;VALUE=DATE:20230411
DTEND;VALUE=DATE:20230412
DTSTAMP:20260420T070158
CREATED:20220910T132846Z
LAST-MODIFIED:20220910T132846Z
UID:16896-1681171200-1681257599@www.hlwstpoelten.ac.at
SUMMARY:HLW/HLS/ ALW Themeneinreichung DA über VSD Plattform
DESCRIPTION:
URL:https://www.hlwstpoelten.ac.at/event/hlw-hls-alw-themeneinreichung-da-ueber-vsd-plattform/
END:VEVENT
BEGIN:VEVENT
DTSTART;VALUE=DATE:20240514
DTEND;VALUE=DATE:20240523
DTSTAMP:20260420T070158
CREATED:20220910T133057Z
LAST-MODIFIED:20240403T184012Z
UID:16902-1715644800-1716422399@www.hlwstpoelten.ac.at
SUMMARY:4A/4B Vorprüfung
DESCRIPTION:
URL:https://www.hlwstpoelten.ac.at/event/hlw-4-jahrgang-vorpruefung-4abe/
END:VEVENT
BEGIN:VEVENT
DTSTART;VALUE=DATE:20230428
DTEND;VALUE=DATE:20230429
DTSTAMP:20260420T070158
CREATED:20220910T133643Z
LAST-MODIFIED:20220910T133643Z
UID:16909-1682640000-1682726399@www.hlwstpoelten.ac.at
SUMMARY:3FW/3FSB Konferenz
DESCRIPTION:online 14 Uhr
URL:https://www.hlwstpoelten.ac.at/event/3fw-3fsb-konferenz/
END:VEVENT
BEGIN:VEVENT
DTSTART;VALUE=DATE:20230428
DTEND;VALUE=DATE:20230429
DTSTAMP:20260420T070158
CREATED:20220910T133757Z
LAST-MODIFIED:20220910T133757Z
UID:16913-1682640000-1682726399@www.hlwstpoelten.ac.at
SUMMARY:Klausur Ende der Abmeldefrist mit Zeugnisdatum
DESCRIPTION:
URL:https://www.hlwstpoelten.ac.at/event/klausur-ende-der-abmeldefrist-mit-zeugnisdatum/
END:VEVENT
END:VCALENDAR