BEGIN:VCALENDAR
VERSION:2.0
PRODID:-//SZE - ECPv6.15.15//NONSGML v1.0//EN
CALSCALE:GREGORIAN
METHOD:PUBLISH
X-ORIGINAL-URL:https://www.hlwstpoelten.ac.at
X-WR-CALDESC:Veranstaltungen für SZE
REFRESH-INTERVAL;VALUE=DURATION:PT1H
X-Robots-Tag:noindex
X-PUBLISHED-TTL:PT1H
BEGIN:VTIMEZONE
TZID:Europe/Vienna
BEGIN:DAYLIGHT
TZOFFSETFROM:+0100
TZOFFSETTO:+0200
TZNAME:CEST
DTSTART:20220327T010000
END:DAYLIGHT
BEGIN:STANDARD
TZOFFSETFROM:+0200
TZOFFSETTO:+0100
TZNAME:CET
DTSTART:20221030T010000
END:STANDARD
BEGIN:DAYLIGHT
TZOFFSETFROM:+0100
TZOFFSETTO:+0200
TZNAME:CEST
DTSTART:20230326T010000
END:DAYLIGHT
BEGIN:STANDARD
TZOFFSETFROM:+0200
TZOFFSETTO:+0100
TZNAME:CET
DTSTART:20231029T010000
END:STANDARD
BEGIN:DAYLIGHT
TZOFFSETFROM:+0100
TZOFFSETTO:+0200
TZNAME:CEST
DTSTART:20240331T010000
END:DAYLIGHT
BEGIN:STANDARD
TZOFFSETFROM:+0200
TZOFFSETTO:+0100
TZNAME:CET
DTSTART:20241027T010000
END:STANDARD
END:VTIMEZONE
BEGIN:VEVENT
DTSTART;VALUE=DATE:20230202
DTEND;VALUE=DATE:20230203
DTSTAMP:20260420T095856
CREATED:20220910T094240Z
LAST-MODIFIED:20220910T094240Z
UID:16862-1675296000-1675382399@www.hlwstpoelten.ac.at
SUMMARY:HLW/HLS/ALW Themenfindung DA und Methodenschulung/Recherche/Urheberrecht
DESCRIPTION:online ab 11:20 Uhr (Unterricht bis 09:20 Uhr)
URL:https://www.hlwstpoelten.ac.at/event/hlw-hls-alw-themenfindung-da-und-methodenschulung-recherche-urheberrecht/
END:VEVENT
BEGIN:VEVENT
DTSTART;VALUE=DATE:20230203
DTEND;VALUE=DATE:20230204
DTSTAMP:20260420T095856
CREATED:20220910T101717Z
LAST-MODIFIED:20220910T101717Z
UID:16864-1675382400-1675468799@www.hlwstpoelten.ac.at
SUMMARY:SOB/alle Klassen SZE Semesterzeugnis
DESCRIPTION:
URL:https://www.hlwstpoelten.ac.at/event/sob-alle-klassen-sze-semesterzeugnis/
END:VEVENT
BEGIN:VEVENT
DTSTART;VALUE=DATE:20230212
DTEND;VALUE=DATE:20230219
DTSTAMP:20260420T095856
CREATED:20220910T102304Z
LAST-MODIFIED:20220910T102304Z
UID:16872-1676160000-1676764799@www.hlwstpoelten.ac.at
SUMMARY:4B/4CS Erasmus - Reise nach Sofia
DESCRIPTION:
URL:https://www.hlwstpoelten.ac.at/event/4b-4cs-erasmus-reise-nach-sofia/
END:VEVENT
BEGIN:VEVENT
DTSTART;VALUE=DATE:20230215
DTEND;VALUE=DATE:20230217
DTSTAMP:20260420T095856
CREATED:20220910T102408Z
LAST-MODIFIED:20220910T102408Z
UID:16874-1676419200-1676591999@www.hlwstpoelten.ac.at
SUMMARY:HLW/ALW /FW/FSB 2. weiterer Termin: Präsentationen\, mündliche Prüfungen\, nicht standardisierte Kompensationsprüfungen
DESCRIPTION:
URL:https://www.hlwstpoelten.ac.at/event/hlw-alw-fw-fsb-2-weiterer-termin-praesentationen-muendliche-pruefungen-nicht-standardisierte-kompensationspruefungen/
END:VEVENT
BEGIN:VEVENT
DTSTART;VALUE=DATE:20230227
DTEND;VALUE=DATE:20230228
DTSTAMP:20260420T095856
CREATED:20220910T102546Z
LAST-MODIFIED:20220910T102546Z
UID:16878-1677456000-1677542399@www.hlwstpoelten.ac.at
SUMMARY:HLW/ALW /FW/FSB Abgabe Diplom-/Abschlussarbeiten\, Ende der Abmeldefrist Präsentation
DESCRIPTION:
URL:https://www.hlwstpoelten.ac.at/event/hlw-alw-fw-fsb-abgabe-diplom-abschlussarbeiten-ende-der-abmeldefrist-praesentation/
END:VEVENT
BEGIN:VEVENT
DTSTART;VALUE=DATE:20230227
DTEND;VALUE=DATE:20230228
DTSTAMP:20260420T095856
CREATED:20220910T131152Z
LAST-MODIFIED:20220910T131152Z
UID:16880-1677456000-1677542399@www.hlwstpoelten.ac.at
SUMMARY:Pat/Kaffeekenner
DESCRIPTION:
URL:https://www.hlwstpoelten.ac.at/event/pat-kaffeekenner/
END:VEVENT
END:VCALENDAR