BEGIN:VCALENDAR
VERSION:2.0
PRODID:-//SZE - ECPv6.15.15//NONSGML v1.0//EN
CALSCALE:GREGORIAN
METHOD:PUBLISH
X-WR-CALNAME:SZE
X-ORIGINAL-URL:https://www.hlwstpoelten.ac.at
X-WR-CALDESC:Veranstaltungen für SZE
REFRESH-INTERVAL;VALUE=DURATION:PT1H
X-Robots-Tag:noindex
X-PUBLISHED-TTL:PT1H
BEGIN:VTIMEZONE
TZID:Europe/Vienna
BEGIN:DAYLIGHT
TZOFFSETFROM:+0100
TZOFFSETTO:+0200
TZNAME:CEST
DTSTART:20210328T010000
END:DAYLIGHT
BEGIN:STANDARD
TZOFFSETFROM:+0200
TZOFFSETTO:+0100
TZNAME:CET
DTSTART:20211031T010000
END:STANDARD
BEGIN:DAYLIGHT
TZOFFSETFROM:+0100
TZOFFSETTO:+0200
TZNAME:CEST
DTSTART:20220327T010000
END:DAYLIGHT
BEGIN:STANDARD
TZOFFSETFROM:+0200
TZOFFSETTO:+0100
TZNAME:CET
DTSTART:20221030T010000
END:STANDARD
BEGIN:DAYLIGHT
TZOFFSETFROM:+0100
TZOFFSETTO:+0200
TZNAME:CEST
DTSTART:20230326T010000
END:DAYLIGHT
BEGIN:STANDARD
TZOFFSETFROM:+0200
TZOFFSETTO:+0100
TZNAME:CET
DTSTART:20231029T010000
END:STANDARD
END:VTIMEZONE
BEGIN:VEVENT
DTSTART;VALUE=DATE:20221003
DTEND;VALUE=DATE:20221005
DTSTAMP:20260420T153044
CREATED:20190705T081903Z
LAST-MODIFIED:20220914T073448Z
UID:5491-1664755200-1664927999@www.hlwstpoelten.ac.at
SUMMARY:4HLW Wiederholungsprüfungen
DESCRIPTION:
URL:https://www.hlwstpoelten.ac.at/event/wiederholungspruefungen-4hlw/
END:VEVENT
BEGIN:VEVENT
DTSTART;VALUE=DATE:20221012
DTEND;VALUE=DATE:20221013
DTSTAMP:20260420T153044
CREATED:20200908T150123Z
LAST-MODIFIED:20220909T101417Z
UID:9333-1665532800-1665619199@www.hlwstpoelten.ac.at
SUMMARY:HLW/ALW standardisierte Kompensationsprüfungen 1. weiterer Termin
DESCRIPTION:
URL:https://www.hlwstpoelten.ac.at/event/kompensationspruefungen-hlw-alw-standardisiert-herbsttermin/
END:VEVENT
BEGIN:VEVENT
DTSTART;VALUE=DATE:20221012
DTEND;VALUE=DATE:20221013
DTSTAMP:20260420T153044
CREATED:20210401T074017Z
LAST-MODIFIED:20220909T101956Z
UID:11533-1665532800-1665619199@www.hlwstpoelten.ac.at
SUMMARY:HLW/ALW/FW/FSB spätester Termin für Zurücknahme des Antrittes zu Präsentation und Diskussion DA/AbA/mündl. Prüfungen 1. w. T. HT 22
DESCRIPTION:
URL:https://www.hlwstpoelten.ac.at/event/zuruecknahme-des-antrages-zum-antritt-zur-schriftl-klausur/
END:VEVENT
BEGIN:VEVENT
DTSTART;VALUE=DATE:20221012
DTEND;VALUE=DATE:20221013
DTSTAMP:20260420T153044
CREATED:20210913T121221Z
LAST-MODIFIED:20220818T153251Z
UID:12964-1665532800-1665619199@www.hlwstpoelten.ac.at
SUMMARY:mündliche Kompensationsprüfungen zentral (1. weiterer Termin)
DESCRIPTION:
URL:https://www.hlwstpoelten.ac.at/event/hlw-alw-fsb-kompensationspruefungen-nicht-standardisiert-standardisiert-%e2%80%90-rdp-ap-%e2%80%90-muendl-pruefungen/
END:VEVENT
BEGIN:VEVENT
DTSTART;VALUE=DATE:20221017
DTEND;VALUE=DATE:20221019
DTSTAMP:20260420T153044
CREATED:20220818T153450Z
LAST-MODIFIED:20220910T090242Z
UID:16768-1665964800-1666137599@www.hlwstpoelten.ac.at
SUMMARY:HLW/ALW /FW/FSB 1. weiterer Termin: Präsentationen\, mündliche Prüfungen\, nicht standardisierte Kompensationsprüfungen
DESCRIPTION:
URL:https://www.hlwstpoelten.ac.at/event/muendliche-kompensationspruefungen-nicht-zentral-1-weiterer-termin/
END:VEVENT
END:VCALENDAR