BEGIN:VCALENDAR
VERSION:2.0
PRODID:-//SZE - ECPv6.15.15//NONSGML v1.0//EN
CALSCALE:GREGORIAN
METHOD:PUBLISH
X-ORIGINAL-URL:https://www.hlwstpoelten.ac.at
X-WR-CALDESC:Veranstaltungen für SZE
REFRESH-INTERVAL;VALUE=DURATION:PT1H
X-Robots-Tag:noindex
X-PUBLISHED-TTL:PT1H
BEGIN:VTIMEZONE
TZID:Europe/Vienna
BEGIN:DAYLIGHT
TZOFFSETFROM:+0100
TZOFFSETTO:+0200
TZNAME:CEST
DTSTART:20210328T010000
END:DAYLIGHT
BEGIN:STANDARD
TZOFFSETFROM:+0200
TZOFFSETTO:+0100
TZNAME:CET
DTSTART:20211031T010000
END:STANDARD
BEGIN:DAYLIGHT
TZOFFSETFROM:+0100
TZOFFSETTO:+0200
TZNAME:CEST
DTSTART:20220327T010000
END:DAYLIGHT
BEGIN:STANDARD
TZOFFSETFROM:+0200
TZOFFSETTO:+0100
TZNAME:CET
DTSTART:20221030T010000
END:STANDARD
BEGIN:DAYLIGHT
TZOFFSETFROM:+0100
TZOFFSETTO:+0200
TZNAME:CEST
DTSTART:20230326T010000
END:DAYLIGHT
BEGIN:STANDARD
TZOFFSETFROM:+0200
TZOFFSETTO:+0100
TZNAME:CET
DTSTART:20231029T010000
END:STANDARD
END:VTIMEZONE
BEGIN:VEVENT
DTSTART;VALUE=DATE:20220601
DTEND;VALUE=DATE:20220603
DTSTAMP:20260420T205230
CREATED:20210212T181914Z
LAST-MODIFIED:20220124T124104Z
UID:11332-1654041600-1654214399@www.hlwstpoelten.ac.at
SUMMARY:zentrale Kompensationsprüfungen AM/D/F/I
DESCRIPTION:
URL:https://www.hlwstpoelten.ac.at/event/muendliche-standardisierte-kompensationspruefung/
END:VEVENT
BEGIN:VEVENT
DTSTART;VALUE=DATE:20220607
DTEND;VALUE=DATE:20220608
DTSTAMP:20260420T205230
CREATED:20220124T124310Z
LAST-MODIFIED:20220124T124310Z
UID:14833-1654560000-1654646399@www.hlwstpoelten.ac.at
SUMMARY:ALW Mündliche Teilprüfungen
DESCRIPTION:Start Soziales – dann Gastronomie
URL:https://www.hlwstpoelten.ac.at/event/alw-muendliche-teilpruefungen-2/
END:VEVENT
BEGIN:VEVENT
DTSTART;VALUE=DATE:20220607
DTEND;VALUE=DATE:20220608
DTSTAMP:20260420T205230
CREATED:20220425T102112Z
LAST-MODIFIED:20220425T102112Z
UID:15758-1654560000-1654646399@www.hlwstpoelten.ac.at
SUMMARY:3ALW Reife- und Diplomprüfungsfeier
DESCRIPTION:
URL:https://www.hlwstpoelten.ac.at/event/3alw-reife-und-diplompruefungsfeier/
END:VEVENT
BEGIN:VEVENT
DTSTART;VALUE=DATE:20220608
DTEND;VALUE=DATE:20220610
DTSTAMP:20260420T205230
CREATED:20200425T160016Z
LAST-MODIFIED:20220124T124432Z
UID:8832-1654646400-1654819199@www.hlwstpoelten.ac.at
SUMMARY:FSB Mündliche Teilprüfungen
DESCRIPTION:
URL:https://www.hlwstpoelten.ac.at/event/5hlw-3alw-3fw-3fsb-muendliche-pruefungen/
END:VEVENT
BEGIN:VEVENT
DTSTART;VALUE=DATE:20220620
DTEND;VALUE=DATE:20220624
DTSTAMP:20260420T205230
CREATED:20220124T124655Z
LAST-MODIFIED:20220124T124655Z
UID:14838-1655683200-1656028799@www.hlwstpoelten.ac.at
SUMMARY:5A/5B Mündliche Teilprüfungen
DESCRIPTION:
URL:https://www.hlwstpoelten.ac.at/event/5a-5b-muendliche-teilpruefungen/
END:VEVENT
BEGIN:VEVENT
DTSTART;VALUE=DATE:20220622
DTEND;VALUE=DATE:20220623
DTSTAMP:20260420T205230
CREATED:20190221T133808Z
LAST-MODIFIED:20220124T124847Z
UID:4594-1655856000-1655942399@www.hlwstpoelten.ac.at
SUMMARY:SOB Aufnahmegespräch
DESCRIPTION:
URL:https://www.hlwstpoelten.ac.at/event/sob-aufnahmegespraech/
END:VEVENT
BEGIN:VEVENT
DTSTART;VALUE=DATE:20220623
DTEND;VALUE=DATE:20220624
DTSTAMP:20260420T205230
CREATED:20220124T124929Z
LAST-MODIFIED:20220124T152709Z
UID:14841-1655942400-1656028799@www.hlwstpoelten.ac.at
SUMMARY:5D Mündliche Teilprüfungen
DESCRIPTION:
URL:https://www.hlwstpoelten.ac.at/event/5d-muendliche-teilpruefungen/
END:VEVENT
BEGIN:VEVENT
DTSTART;VALUE=DATE:20220627
DTEND;VALUE=DATE:20220628
DTSTAMP:20260420T205230
CREATED:20220124T125552Z
LAST-MODIFIED:20220425T102024Z
UID:14845-1656288000-1656374399@www.hlwstpoelten.ac.at
SUMMARY:5A/5B/5D Reife- und Diplomprüfungsfeier
DESCRIPTION:
URL:https://www.hlwstpoelten.ac.at/event/5a-5b-5d-3alw-reife-und-diplompruefungsfeier/
END:VEVENT
BEGIN:VEVENT
DTSTART;VALUE=DATE:20220627
DTEND;VALUE=DATE:20220628
DTSTAMP:20260420T205230
CREATED:20220124T125626Z
LAST-MODIFIED:20220124T125626Z
UID:14847-1656288000-1656374399@www.hlwstpoelten.ac.at
SUMMARY:Unterricht laut Stundenplan bis 13 Uhr
DESCRIPTION:
URL:https://www.hlwstpoelten.ac.at/event/unterricht-laut-stundenplan-bis-13-uhr/
END:VEVENT
BEGIN:VEVENT
DTSTART;VALUE=DATE:20220627
DTEND;VALUE=DATE:20220628
DTSTAMP:20260420T205230
CREATED:20220124T152752Z
LAST-MODIFIED:20220124T152752Z
UID:14866-1656288000-1656374399@www.hlwstpoelten.ac.at
SUMMARY:5D Mündliche Teilprüfungen
DESCRIPTION:
URL:https://www.hlwstpoelten.ac.at/event/5d-muendliche-teilpruefungen-2/
END:VEVENT
BEGIN:VEVENT
DTSTART;VALUE=DATE:20220627
DTEND;VALUE=DATE:20220629
DTSTAMP:20260420T205230
CREATED:20210401T081058Z
LAST-MODIFIED:20220124T125446Z
UID:11585-1656288000-1656460799@www.hlwstpoelten.ac.at
SUMMARY:Methodenschulung II abschließende Arbeiten DA
DESCRIPTION:
URL:https://www.hlwstpoelten.ac.at/event/methodenschulung-ii-abschliessende-arbeiten-aa-da/
END:VEVENT
BEGIN:VEVENT
DTSTART;VALUE=DATE:20220627
DTEND;VALUE=DATE:20220701
DTSTAMP:20260420T205230
CREATED:20190221T132715Z
LAST-MODIFIED:20220124T125325Z
UID:4579-1656288000-1656633599@www.hlwstpoelten.ac.at
SUMMARY:Anmeldung zur vorgezogenen Teilprüfung RDP/AP Haupttermin 2023
DESCRIPTION:
URL:https://www.hlwstpoelten.ac.at/event/anmeldung-zur-vorgezogenen-teilpruefung-haupttermin-2020/
END:VEVENT
BEGIN:VEVENT
DTSTART;VALUE=DATE:20220628
DTEND;VALUE=DATE:20220630
DTSTAMP:20260420T205230
CREATED:20220124T125709Z
LAST-MODIFIED:20220124T125709Z
UID:14849-1656374400-1656547199@www.hlwstpoelten.ac.at
SUMMARY:Exkursionen und Projekte im Klassenverband
DESCRIPTION:bis 13 Uhr
URL:https://www.hlwstpoelten.ac.at/event/exkursionen-und-projekte-im-klassenverband/
END:VEVENT
BEGIN:VEVENT
DTSTART;VALUE=DATE:20220630
DTEND;VALUE=DATE:20220701
DTSTAMP:20260420T205230
CREATED:20220124T130125Z
LAST-MODIFIED:20220124T130125Z
UID:14855-1656547200-1656633599@www.hlwstpoelten.ac.at
SUMMARY:Schulschlussfeier des SZE-Teams
DESCRIPTION:im Anschluss an den Sporttag
URL:https://www.hlwstpoelten.ac.at/event/schulschlussfeier-des-sze-teams/
END:VEVENT
END:VCALENDAR