BEGIN:VCALENDAR
VERSION:2.0
PRODID:-//SZE - ECPv6.15.15//NONSGML v1.0//EN
CALSCALE:GREGORIAN
METHOD:PUBLISH
X-ORIGINAL-URL:https://www.hlwstpoelten.ac.at
X-WR-CALDESC:Veranstaltungen für SZE
REFRESH-INTERVAL;VALUE=DURATION:PT1H
X-Robots-Tag:noindex
X-PUBLISHED-TTL:PT1H
BEGIN:VTIMEZONE
TZID:Europe/Vienna
BEGIN:DAYLIGHT
TZOFFSETFROM:+0100
TZOFFSETTO:+0200
TZNAME:CEST
DTSTART:20210328T010000
END:DAYLIGHT
BEGIN:STANDARD
TZOFFSETFROM:+0200
TZOFFSETTO:+0100
TZNAME:CET
DTSTART:20211031T010000
END:STANDARD
BEGIN:DAYLIGHT
TZOFFSETFROM:+0100
TZOFFSETTO:+0200
TZNAME:CEST
DTSTART:20220327T010000
END:DAYLIGHT
BEGIN:STANDARD
TZOFFSETFROM:+0200
TZOFFSETTO:+0100
TZNAME:CET
DTSTART:20221030T010000
END:STANDARD
BEGIN:DAYLIGHT
TZOFFSETFROM:+0100
TZOFFSETTO:+0200
TZNAME:CEST
DTSTART:20230326T010000
END:DAYLIGHT
BEGIN:STANDARD
TZOFFSETFROM:+0200
TZOFFSETTO:+0100
TZNAME:CET
DTSTART:20231029T010000
END:STANDARD
END:VTIMEZONE
BEGIN:VEVENT
DTSTART;VALUE=DATE:20220502
DTEND;VALUE=DATE:20220503
DTSTAMP:20260420T221657
CREATED:20210212T181325Z
LAST-MODIFIED:20220124T094709Z
UID:11314-1651449600-1651535999@www.hlwstpoelten.ac.at
SUMMARY:5HLW\, 3ALW Nicht standardisierte Klausur RW-BW
DESCRIPTION:
URL:https://www.hlwstpoelten.ac.at/event/nicht-standardisierte-klausur-5-jg-3alw-rw-bw/
END:VEVENT
BEGIN:VEVENT
DTSTART;VALUE=DATE:20220503
DTEND;VALUE=DATE:20220504
DTSTAMP:20260420T221657
CREATED:20210212T181454Z
LAST-MODIFIED:20220124T095007Z
UID:11318-1651536000-1651622399@www.hlwstpoelten.ac.at
SUMMARY:5HLW\, 3ALW Standardisierte Klausur Angewandte Mathematik
DESCRIPTION:
URL:https://www.hlwstpoelten.ac.at/event/angewandte-mathematik-klausur-standardisiert-5-jg-3alw/
END:VEVENT
BEGIN:VEVENT
DTSTART;VALUE=DATE:20220504
DTEND;VALUE=DATE:20220505
DTSTAMP:20260420T221657
CREATED:20210212T181225Z
LAST-MODIFIED:20220124T095122Z
UID:11310-1651622400-1651708799@www.hlwstpoelten.ac.at
SUMMARY:3SFA/3SFB Vorgezogene Wiederholungsprüfung
DESCRIPTION:
URL:https://www.hlwstpoelten.ac.at/event/vorgezogene-wiederholungspruefung-3-sfa-3-sfb/
END:VEVENT
BEGIN:VEVENT
DTSTART;VALUE=DATE:20220505
DTEND;VALUE=DATE:20220506
DTSTAMP:20260420T221657
CREATED:20210212T181402Z
LAST-MODIFIED:20220124T095619Z
UID:11316-1651708800-1651795199@www.hlwstpoelten.ac.at
SUMMARY:5HLW\, 3ALW Standardisierte Klausur Deutsch
DESCRIPTION:
URL:https://www.hlwstpoelten.ac.at/event/deutsch-klausur-standardisiert-5-jg-3alw/
END:VEVENT
BEGIN:VEVENT
DTSTART;VALUE=DATE:20220506
DTEND;VALUE=DATE:20220507
DTSTAMP:20260420T221657
CREATED:20210212T181258Z
LAST-MODIFIED:20220124T095738Z
UID:11312-1651795200-1651881599@www.hlwstpoelten.ac.at
SUMMARY:3SFA/3SFB Schulschluss
DESCRIPTION:
URL:https://www.hlwstpoelten.ac.at/event/schulschluss-3-sfa-3sfb/
END:VEVENT
BEGIN:VEVENT
DTSTART;VALUE=DATE:20220506
DTEND;VALUE=DATE:20220507
DTSTAMP:20260420T221657
CREATED:20210401T080432Z
LAST-MODIFIED:20220124T095844Z
UID:11574-1651795200-1651881599@www.hlwstpoelten.ac.at
SUMMARY:3SFA/3SFB Zurücknahme des Antrages zum Antritt zu den mündl. Teilprüfungen
DESCRIPTION:
URL:https://www.hlwstpoelten.ac.at/event/zuruecknahme-des-antrages-zum-antritt-zu-den-muendl-teilpruefungen/
END:VEVENT
BEGIN:VEVENT
DTSTART;VALUE=DATE:20220509
DTEND;VALUE=DATE:20220510
DTSTAMP:20260420T221657
CREATED:20210401T074538Z
LAST-MODIFIED:20220124T100106Z
UID:11541-1652054400-1652140799@www.hlwstpoelten.ac.at
SUMMARY:3AF\, 3FSB Nicht standardisierte Klausur RW\, BWR
DESCRIPTION:
URL:https://www.hlwstpoelten.ac.at/event/3af-3fsb-nicht-standardisierte-klausur-rw-bwr/
END:VEVENT
BEGIN:VEVENT
DTSTART;VALUE=DATE:20220509
DTEND;VALUE=DATE:20220511
DTSTAMP:20260420T221657
CREATED:20210401T075450Z
LAST-MODIFIED:20220124T100140Z
UID:11553-1652054400-1652227199@www.hlwstpoelten.ac.at
SUMMARY:3ALW Praktische Klausur
DESCRIPTION:
URL:https://www.hlwstpoelten.ac.at/event/3alw-praktische-klausur/
END:VEVENT
BEGIN:VEVENT
DTSTART;VALUE=DATE:20220510
DTEND;VALUE=DATE:20220511
DTSTAMP:20260420T221657
CREATED:20210401T074926Z
LAST-MODIFIED:20220124T100254Z
UID:11545-1652140800-1652227199@www.hlwstpoelten.ac.at
SUMMARY:3AF\, 3FSB Nicht standardisierte Klausur Deutsch
DESCRIPTION:
URL:https://www.hlwstpoelten.ac.at/event/3af-3fsb-nicht-standardisierte-klausur-d/
END:VEVENT
BEGIN:VEVENT
DTSTART;VALUE=DATE:20220511
DTEND;VALUE=DATE:20220525
DTSTAMP:20260420T221657
CREATED:20220124T123432Z
LAST-MODIFIED:20220124T123432Z
UID:14822-1652227200-1653436799@www.hlwstpoelten.ac.at
SUMMARY:4HLW Vorprüfung
DESCRIPTION:
URL:https://www.hlwstpoelten.ac.at/event/4hlw-vorpruefung-4/
END:VEVENT
BEGIN:VEVENT
DTSTART;VALUE=DATE:20220512
DTEND;VALUE=DATE:20220513
DTSTAMP:20260420T221657
CREATED:20210212T181743Z
LAST-MODIFIED:20220124T100517Z
UID:11326-1652313600-1652399999@www.hlwstpoelten.ac.at
SUMMARY:5HLW\, 3ALW Standardisierte Klausur Italienisch
DESCRIPTION:
URL:https://www.hlwstpoelten.ac.at/event/italienisch-klausur-standardisiert-5-jg-3alw/
END:VEVENT
BEGIN:VEVENT
DTSTART;VALUE=DATE:20220513
DTEND;VALUE=DATE:20220514
DTSTAMP:20260420T221657
CREATED:20220124T100551Z
LAST-MODIFIED:20220124T100551Z
UID:14796-1652400000-1652486399@www.hlwstpoelten.ac.at
SUMMARY:3SFB Kinderbetreuerprüfung
DESCRIPTION:ab 8 Uhr
URL:https://www.hlwstpoelten.ac.at/event/3sfb-kinderbetreuerpruefung/
END:VEVENT
BEGIN:VEVENT
DTSTART;VALUE=DATE:20220517
DTEND;VALUE=DATE:20220518
DTSTAMP:20260420T221657
CREATED:20220124T100713Z
LAST-MODIFIED:20220124T100713Z
UID:14798-1652745600-1652831999@www.hlwstpoelten.ac.at
SUMMARY:FW/FSB Abgabe der korrigierten schriftlichen Klausuren
DESCRIPTION:
URL:https://www.hlwstpoelten.ac.at/event/fw-fsb-abgabe-der-korrigierten-schriftlichen-klausuren/
END:VEVENT
BEGIN:VEVENT
DTSTART;VALUE=DATE:20220518
DTEND;VALUE=DATE:20220519
DTSTAMP:20260420T221657
CREATED:20210511T172255Z
LAST-MODIFIED:20220124T122356Z
UID:11727-1652832000-1652918399@www.hlwstpoelten.ac.at
SUMMARY:FW/FSB Zwischenkonferenz (Klausuren)
DESCRIPTION:
URL:https://www.hlwstpoelten.ac.at/event/fw-fsb-zwischenkonferenz-klausuren/
END:VEVENT
BEGIN:VEVENT
DTSTART;VALUE=DATE:20220518
DTEND;VALUE=DATE:20220519
DTSTAMP:20260420T221657
CREATED:20220124T122533Z
LAST-MODIFIED:20220124T122533Z
UID:14808-1652832000-1652918399@www.hlwstpoelten.ac.at
SUMMARY:FW/FSB Zurücknahme des Antrages zum Antritt zur mündlichen Prüfung
DESCRIPTION:
URL:https://www.hlwstpoelten.ac.at/event/fw-fsb-zuruecknahme-des-antrages-zum-antritt-zur-muendlichen-pruefung/
END:VEVENT
BEGIN:VEVENT
DTSTART;VALUE=DATE:20220518
DTEND;VALUE=DATE:20220519
DTSTAMP:20260420T221657
CREATED:20220124T122618Z
LAST-MODIFIED:20220124T122618Z
UID:14810-1652832000-1652918399@www.hlwstpoelten.ac.at
SUMMARY:FW/FSB Einsichtnahme
DESCRIPTION:
URL:https://www.hlwstpoelten.ac.at/event/fw-fsb-einsichtnahme/
END:VEVENT
BEGIN:VEVENT
DTSTART;VALUE=DATE:20220519
DTEND;VALUE=DATE:20220520
DTSTAMP:20260420T221657
CREATED:20210401T074424Z
LAST-MODIFIED:20220124T122823Z
UID:11539-1652918400-1653004799@www.hlwstpoelten.ac.at
SUMMARY:Abgabe der approbierten Aufgabenstellungen
DESCRIPTION:im digitalen Format bei Astrid Gruber
URL:https://www.hlwstpoelten.ac.at/event/abgabe-der-approbierten-aufgabenstellungen/
END:VEVENT
BEGIN:VEVENT
DTSTART;VALUE=DATE:20220519
DTEND;VALUE=DATE:20220520
DTSTAMP:20260420T221657
CREATED:20220124T122727Z
LAST-MODIFIED:20220124T122727Z
UID:11564-1652918400-1653004799@www.hlwstpoelten.ac.at
SUMMARY:HLW/ALW Abgabe der korrigierten schriftlichen Klausuren
DESCRIPTION:
URL:https://www.hlwstpoelten.ac.at/event/hlw-alw-abgabe-der-korrigierten-schriftlichen-klausuren/
END:VEVENT
BEGIN:VEVENT
DTSTART;VALUE=DATE:20220523
DTEND;VALUE=DATE:20220524
DTSTAMP:20260420T221657
CREATED:20210212T181844Z
LAST-MODIFIED:20220520T081918Z
UID:11330-1653264000-1653350399@www.hlwstpoelten.ac.at
SUMMARY:HLW/ALW Zwischenkonferenz (Klausuren)
DESCRIPTION:Ablauf Zwischenkonferenz:\n \n09:00 h              Begutachtung der Klausuren durch Vorsitzende \n10:30 h              Gespräche mit KlausurprüferInnen \n13:00 h              Zwischenkonferenz \n14:00 h              Foto der abschließenden Jahrgänge/Klassen \n15:00 h              Einsichtnahme \n  \nDie KandidatInnen sollten um 13:45 h anwesend sein.
URL:https://www.hlwstpoelten.ac.at/event/zwischenkonferenz-klausuren/
END:VEVENT
BEGIN:VEVENT
DTSTART;VALUE=DATE:20220523
DTEND;VALUE=DATE:20220524
DTSTAMP:20260420T221657
CREATED:20210412T121022Z
LAST-MODIFIED:20220124T122940Z
UID:11604-1653264000-1653350399@www.hlwstpoelten.ac.at
SUMMARY:3HLW/3HLS/4HLS/2AF Noten eintragen
DESCRIPTION:bis 10 Uhr
URL:https://www.hlwstpoelten.ac.at/event/3hlw-3hls-2af-noten-eintragen/
END:VEVENT
BEGIN:VEVENT
DTSTART;VALUE=DATE:20220523
DTEND;VALUE=DATE:20220524
DTSTAMP:20260420T221657
CREATED:20220124T123158Z
LAST-MODIFIED:20220124T123158Z
UID:14819-1653264000-1653350399@www.hlwstpoelten.ac.at
SUMMARY:HLW/ALW Einsichtnahme
DESCRIPTION:
URL:https://www.hlwstpoelten.ac.at/event/hlw-alw-einsichtnahme/
END:VEVENT
BEGIN:VEVENT
DTSTART;VALUE=DATE:20220523
DTEND;VALUE=DATE:20220524
DTSTAMP:20260420T221657
CREATED:20220125T124130Z
LAST-MODIFIED:20220125T124130Z
UID:14884-1653264000-1653350399@www.hlwstpoelten.ac.at
SUMMARY:Methodenschulung II abschließende Arbeiten – DA HLS
DESCRIPTION:
URL:https://www.hlwstpoelten.ac.at/event/methodenschulung-ii-abschliessende-arbeiten-da-hls/
END:VEVENT
BEGIN:VEVENT
DTSTART;VALUE=DATE:20220525
DTEND;VALUE=DATE:20220526
DTSTAMP:20260420T221657
CREATED:20210212T181606Z
LAST-MODIFIED:20220520T081536Z
UID:11320-1653436800-1653523199@www.hlwstpoelten.ac.at
SUMMARY:3HLW/3HLS/4HLS/2AF Notenkonferenz
DESCRIPTION:Die Notenkonferenz findet ONLINE statt. \n15:30 h              2AF \n15:50 h              3A \n16:10 h              4Ds \n16:30 h              4Cs \n16:50 h              3B \n17:10 h              3E \n17:30 h              3Cs \n17:50 h              3Ds \nDie Noten müssen bis Montag\, den 23. 5. 2022 um 10:00 h eingetragen sein. Änderungen in Sokrates nach diesem Zeitpunkt dürfen nur in Rücksprache mit dem Klassenvorstand/der Klassenvorständin bzw. mit der Schulleitung vorgenommen werden.
URL:https://www.hlwstpoelten.ac.at/event/notenkonferenz-3a-3b-3cs-3ds-2af/
END:VEVENT
BEGIN:VEVENT
DTSTART;VALUE=DATE:20220530
DTEND;VALUE=DATE:20220601
DTSTAMP:20260420T221657
CREATED:20210325T181628Z
LAST-MODIFIED:20220124T123706Z
UID:11518-1653868800-1654041599@www.hlwstpoelten.ac.at
SUMMARY:FW mündliche Teilprüfungen
DESCRIPTION:
URL:https://www.hlwstpoelten.ac.at/event/fw-muendliche-kompensationspruefungen-muendliche-pruefung/
END:VEVENT
END:VCALENDAR