BEGIN:VCALENDAR
VERSION:2.0
PRODID:-//SZE - ECPv6.15.15//NONSGML v1.0//EN
CALSCALE:GREGORIAN
METHOD:PUBLISH
X-ORIGINAL-URL:https://www.hlwstpoelten.ac.at
X-WR-CALDESC:Veranstaltungen für SZE
REFRESH-INTERVAL;VALUE=DURATION:PT1H
X-Robots-Tag:noindex
X-PUBLISHED-TTL:PT1H
BEGIN:VTIMEZONE
TZID:Europe/Vienna
BEGIN:DAYLIGHT
TZOFFSETFROM:+0100
TZOFFSETTO:+0200
TZNAME:CEST
DTSTART:20210328T010000
END:DAYLIGHT
BEGIN:STANDARD
TZOFFSETFROM:+0200
TZOFFSETTO:+0100
TZNAME:CET
DTSTART:20211031T010000
END:STANDARD
BEGIN:DAYLIGHT
TZOFFSETFROM:+0100
TZOFFSETTO:+0200
TZNAME:CEST
DTSTART:20220327T010000
END:DAYLIGHT
BEGIN:STANDARD
TZOFFSETFROM:+0200
TZOFFSETTO:+0100
TZNAME:CET
DTSTART:20221030T010000
END:STANDARD
BEGIN:DAYLIGHT
TZOFFSETFROM:+0100
TZOFFSETTO:+0200
TZNAME:CEST
DTSTART:20230326T010000
END:DAYLIGHT
BEGIN:STANDARD
TZOFFSETFROM:+0200
TZOFFSETTO:+0100
TZNAME:CET
DTSTART:20231029T010000
END:STANDARD
END:VTIMEZONE
BEGIN:VEVENT
DTSTART;VALUE=DATE:20220401
DTEND;VALUE=DATE:20220402
DTSTAMP:20260420T234114
CREATED:20220118T133806Z
LAST-MODIFIED:20220124T093352Z
UID:14609-1648771200-1648857599@www.hlwstpoelten.ac.at
SUMMARY:3AF Präsentation der Abschlussarbeit
DESCRIPTION:ab 8 Uhr
URL:https://www.hlwstpoelten.ac.at/event/3af-praesentation-der-abschlussarbeit/
END:VEVENT
BEGIN:VEVENT
DTSTART;VALUE=DATE:20220404
DTEND;VALUE=DATE:20220405
DTSTAMP:20260420T234114
CREATED:20220118T134729Z
LAST-MODIFIED:20220124T093410Z
UID:14611-1649030400-1649116799@www.hlwstpoelten.ac.at
SUMMARY:3SFA Präsentation der Abschlussarbeit
DESCRIPTION:ab 8 Uhr
URL:https://www.hlwstpoelten.ac.at/event/3sfa-praesentation-der-abschlussarbeit/
END:VEVENT
BEGIN:VEVENT
DTSTART;VALUE=DATE:20220405
DTEND;VALUE=DATE:20220406
DTSTAMP:20260420T234114
CREATED:20220118T135059Z
LAST-MODIFIED:20220124T093432Z
UID:14613-1649116800-1649203199@www.hlwstpoelten.ac.at
SUMMARY:3SFB Präsentation der Abschlussarbeit
DESCRIPTION:ab 8 Uhr
URL:https://www.hlwstpoelten.ac.at/event/3sfb-praesentation-der-abschlussarbeit/
END:VEVENT
BEGIN:VEVENT
DTSTART;VALUE=DATE:20220408
DTEND;VALUE=DATE:20220409
DTSTAMP:20260420T234114
CREATED:20210212T182639Z
LAST-MODIFIED:20220118T135153Z
UID:11344-1649376000-1649462399@www.hlwstpoelten.ac.at
SUMMARY:Einreichung der DA/AA-Themen zur Genehmigung (VSD-Plattform)
DESCRIPTION:
URL:https://www.hlwstpoelten.ac.at/event/einreichung-der-da-aa-themen-zur-genehmigung-vsd-plattform/
END:VEVENT
BEGIN:VEVENT
DTSTART;VALUE=DATE:20220420
DTEND;VALUE=DATE:20220427
DTSTAMP:20260420T234114
CREATED:20220124T093720Z
LAST-MODIFIED:20220124T093720Z
UID:14787-1650412800-1651017599@www.hlwstpoelten.ac.at
SUMMARY:Zeitraum für PISA-Test (1. + 2. Kl./Jg.)
DESCRIPTION:
URL:https://www.hlwstpoelten.ac.at/event/zeitraum-fuer-pisa-test-1-2-kl-jg/
END:VEVENT
BEGIN:VEVENT
DTSTART;VALUE=DATE:20220422
DTEND;VALUE=DATE:20220423
DTSTAMP:20260420T234114
CREATED:20210212T181004Z
LAST-MODIFIED:20220124T093830Z
UID:11302-1650585600-1650671999@www.hlwstpoelten.ac.at
SUMMARY:5HLW/3ALW/3AF Notenkonferenz
DESCRIPTION:16:30 Uhr
URL:https://www.hlwstpoelten.ac.at/event/notenkonferenz-5-jahrgaenge-3-alw-3af/
END:VEVENT
BEGIN:VEVENT
DTSTART;VALUE=DATE:20220427
DTEND;VALUE=DATE:20220428
DTSTAMP:20260420T234114
CREATED:20210212T181040Z
LAST-MODIFIED:20220124T094134Z
UID:11304-1651017600-1651103999@www.hlwstpoelten.ac.at
SUMMARY:5HLW\, 3ALW\, 3AF Vorgezogene Wiederholungsprüfung
DESCRIPTION:
URL:https://www.hlwstpoelten.ac.at/event/vorgezogene-wiederholungspruefung-5-jg-3alw-3af/
END:VEVENT
BEGIN:VEVENT
DTSTART;VALUE=DATE:20220429
DTEND;VALUE=DATE:20220430
DTSTAMP:20260420T234114
CREATED:20210212T180822Z
LAST-MODIFIED:20220124T094408Z
UID:11298-1651190400-1651276799@www.hlwstpoelten.ac.at
SUMMARY:Abgabe der Fragen (mündliche Prüfungen) zur Approbation
DESCRIPTION:
URL:https://www.hlwstpoelten.ac.at/event/abgabe-der-fragen-muendliche-pruefungen-zur-approbation/
END:VEVENT
BEGIN:VEVENT
DTSTART;VALUE=DATE:20220429
DTEND;VALUE=DATE:20220430
DTSTAMP:20260420T234114
CREATED:20210212T181112Z
LAST-MODIFIED:20220124T094315Z
UID:11306-1651190400-1651276799@www.hlwstpoelten.ac.at
SUMMARY:3FSB Notenkonferenz
DESCRIPTION:16 Uhr
URL:https://www.hlwstpoelten.ac.at/event/notenkonferenz-3-klassen-fsb/
END:VEVENT
BEGIN:VEVENT
DTSTART;VALUE=DATE:20220429
DTEND;VALUE=DATE:20220430
DTSTAMP:20260420T234114
CREATED:20210212T181154Z
LAST-MODIFIED:20220124T094457Z
UID:11308-1651190400-1651276799@www.hlwstpoelten.ac.at
SUMMARY:5HLW\, 3ALW\, 3AF Schulschluss
DESCRIPTION:
URL:https://www.hlwstpoelten.ac.at/event/schulschluss-5-jg-3alw-3af/
END:VEVENT
END:VCALENDAR