BEGIN:VCALENDAR
VERSION:2.0
PRODID:-//SZE - ECPv6.15.15//NONSGML v1.0//EN
CALSCALE:GREGORIAN
METHOD:PUBLISH
X-WR-CALNAME:SZE
X-ORIGINAL-URL:https://www.hlwstpoelten.ac.at
X-WR-CALDESC:Veranstaltungen für SZE
REFRESH-INTERVAL;VALUE=DURATION:PT1H
X-Robots-Tag:noindex
X-PUBLISHED-TTL:PT1H
BEGIN:VTIMEZONE
TZID:Europe/Vienna
BEGIN:DAYLIGHT
TZOFFSETFROM:+0100
TZOFFSETTO:+0200
TZNAME:CEST
DTSTART:20210328T010000
END:DAYLIGHT
BEGIN:STANDARD
TZOFFSETFROM:+0200
TZOFFSETTO:+0100
TZNAME:CET
DTSTART:20211031T010000
END:STANDARD
BEGIN:DAYLIGHT
TZOFFSETFROM:+0100
TZOFFSETTO:+0200
TZNAME:CEST
DTSTART:20220327T010000
END:DAYLIGHT
BEGIN:STANDARD
TZOFFSETFROM:+0200
TZOFFSETTO:+0100
TZNAME:CET
DTSTART:20221030T010000
END:STANDARD
BEGIN:DAYLIGHT
TZOFFSETFROM:+0100
TZOFFSETTO:+0200
TZNAME:CEST
DTSTART:20230326T010000
END:DAYLIGHT
BEGIN:STANDARD
TZOFFSETFROM:+0200
TZOFFSETTO:+0100
TZNAME:CET
DTSTART:20231029T010000
END:STANDARD
END:VTIMEZONE
BEGIN:VEVENT
DTSTART;VALUE=DATE:20220322
DTEND;VALUE=DATE:20220323
DTSTAMP:20260421T005757
CREATED:20190221T124544Z
LAST-MODIFIED:20220125T123932Z
UID:4548-1647907200-1647993599@www.hlwstpoelten.ac.at
SUMMARY:DELF Sprachprüfung A1/A2
DESCRIPTION:Betrifft einzelne Schülerinnen und Schüler der 3./4. Jahrgänge.
URL:https://www.hlwstpoelten.ac.at/event/delf-scolaire-sprachpruefung-2/
END:VEVENT
BEGIN:VEVENT
DTSTART;VALUE=DATE:20220323
DTEND;VALUE=DATE:20220324
DTSTAMP:20260421T005757
CREATED:20190221T110138Z
LAST-MODIFIED:20220125T124003Z
UID:4482-1647993600-1648079999@www.hlwstpoelten.ac.at
SUMMARY:DELF Sprachprüfung B1/B2
DESCRIPTION:Betrifft einzelne Schülerinnen und Schüler der 5. Jahrgänge
URL:https://www.hlwstpoelten.ac.at/event/delf-scolaire-sprachpruefung/
END:VEVENT
BEGIN:VEVENT
DTSTART;VALUE=DATE:20220325
DTEND;VALUE=DATE:20220326
DTSTAMP:20260421T005757
CREATED:20210212T174714Z
LAST-MODIFIED:20220124T093138Z
UID:11284-1648166400-1648252799@www.hlwstpoelten.ac.at
SUMMARY:3DS Kinderbetreuerprüfung
DESCRIPTION:ab 8 Uhr
URL:https://www.hlwstpoelten.ac.at/event/kinderbetreuerpruefung-hls/
END:VEVENT
BEGIN:VEVENT
DTSTART;VALUE=DATE:20220328
DTEND;VALUE=DATE:20220329
DTSTAMP:20260421T005757
CREATED:20220118T133435Z
LAST-MODIFIED:20220124T093206Z
UID:14601-1648425600-1648511999@www.hlwstpoelten.ac.at
SUMMARY:5A Präsentation der DA
DESCRIPTION:ab 8 Uhr
URL:https://www.hlwstpoelten.ac.at/event/5a-praesentation-der-da/
END:VEVENT
BEGIN:VEVENT
DTSTART;VALUE=DATE:20220329
DTEND;VALUE=DATE:20220330
DTSTAMP:20260421T005757
CREATED:20220118T133503Z
LAST-MODIFIED:20220124T093224Z
UID:14603-1648512000-1648598399@www.hlwstpoelten.ac.at
SUMMARY:5B Präsentation der DA
DESCRIPTION:ab 8 Uhr
URL:https://www.hlwstpoelten.ac.at/event/5b-praesentation-der-da/
END:VEVENT
BEGIN:VEVENT
DTSTART;VALUE=DATE:20220330
DTEND;VALUE=DATE:20220331
DTSTAMP:20260421T005757
CREATED:20220118T133525Z
LAST-MODIFIED:20220124T093259Z
UID:14605-1648598400-1648684799@www.hlwstpoelten.ac.at
SUMMARY:5D Präsentation der DA
DESCRIPTION:ab 8 Uhr
URL:https://www.hlwstpoelten.ac.at/event/5d-praesentation-der-da/
END:VEVENT
BEGIN:VEVENT
DTSTART;VALUE=DATE:20220331
DTEND;VALUE=DATE:20220401
DTSTAMP:20260421T005757
CREATED:20220118T133708Z
LAST-MODIFIED:20220124T093322Z
UID:14607-1648684800-1648771199@www.hlwstpoelten.ac.at
SUMMARY:3ALW Präsentation der DA
DESCRIPTION:ab 8 Uhr
URL:https://www.hlwstpoelten.ac.at/event/3alw-praesentation-der-da/
END:VEVENT
END:VCALENDAR